BEGIN:VCALENDAR
VERSION:2.0
PRODID:icalendar-ruby
CALSCALE:GREGORIAN
METHOD:PUBLISH
BEGIN:VEVENT
DTSTAMP:20260423T095818Z
UID:30-964935@gotopottershouse.com
DTSTART:20260928T120000Z
DTEND:20260928T130000Z
CLASS:PUBLIC
CREATED:20260422T185404
DESCRIPTION:
LAST-MODIFIED:20260422T185404
LOCATION:Zoom
SUMMARY:Forged Prayer
URL;VALUE=URI:https://www.gotopottershouse.com/events/forged-prayer/2026-09
 -28
ATTACH;FILENAME=Forged-Men%27s-Prayer-web.jpg;FMTTYPE=image/jpeg:https://dq
 5pwpg1q8ru0.cloudfront.net/2024/08/04/16/52/38/ee52e818-a151-4968-9d67-29d
 47cdf27aa/Forged-Men%2527s-Prayer-web.jpg
END:VEVENT
END:VCALENDAR
